BEGIN:VCALENDAR
VERSION:2.0
PRODID:-//Tukios.com/
BEGIN:VEVENT
UID:27cccdcb-cdaf-4910-b803-e8c760d3ddad@www.routsong.com
DTSTAMP:20260420T190118Z
DTSTART:20260430T200000Z
DTEND:20260430T220000Z
SUMMARY:Visitation
DESCRIPTION:
URL:https://www.routsong.com/obituaries/donald-fischer
LOCATION: 2100 E. Stroop Road  Kettering OH 45429
GEO:39.6882653;-84.1274021
END:VEVENT
END:VCALENDAR