BEGIN:VCALENDAR
VERSION:2.0
PRODID:-//Tukios.com/
BEGIN:VEVENT
UID:5ae19a47-5d2d-4893-966f-652a11e93c60@www.routsong.com
DTSTAMP:20260420T185729Z
DTSTART:20260501T143000Z
DTEND:20260501T153000Z
SUMMARY:Mass
DESCRIPTION:
URL:https://www.routsong.com/obituaries/donald-fischer
LOCATION: 6245 Wilmington Pike  Centerville OH 45459
GEO:39.6483137;-84.1121124
END:VEVENT
END:VCALENDAR