BEGIN:VCALENDAR
VERSION:2.0
PRODID:-//Tukios.com/
BEGIN:VEVENT
UID:01ecb476-ced2-47b1-80c1-8e3fce6f7952@www.routsong.com
DTSTAMP:20260420T185736Z
DTSTART:20260501
SUMMARY:Burial
DESCRIPTION:
URL:https://www.routsong.com/obituaries/donald-fischer
LOCATION: 4600 Mad River Rd  Dayton OH 45429
GEO:39.6795803;-84.1704264
END:VEVENT
END:VCALENDAR