BEGIN:VCALENDAR
VERSION:2.0
PRODID:-//Tukios.com/
BEGIN:VEVENT
UID:4064f0c9-a0ca-4958-b7d6-b2b280d934d9@www.routsong.com
DTSTAMP:20260425T225610Z
DTSTART:20260502T150000Z
DTEND:20260502T170000Z
SUMMARY:Celebration of Life
DESCRIPTION:
URL:https://www.routsong.com/obituaries/joann-findlay-md
LOCATION:Routsong Funeral Home - Kettering 2100 E. Stroop Road  Kettering 
	OH 45429
GEO:39.6882653;-84.1274021
END:VEVENT
END:VCALENDAR