BEGIN:VCALENDAR
VERSION:2.0
PRODID:-//Tukios.com/
BEGIN:VEVENT
UID:db790e70-b3c1-40cc-9d07-cab78abc2f97@www.routsong.com
DTSTAMP:20260420T002826Z
DTSTART:20260422T140000Z
DTEND:20260422T160000Z
SUMMARY:Visitation
DESCRIPTION:
URL:https://www.routsong.com/obituaries/mattie-fair
LOCATION:Centerville Community Church 10688 Dayton Lebanon Pike  Dayton 
	OH 45458
GEO:39.5880266;-84.1599171
END:VEVENT
END:VCALENDAR