BEGIN:VCALENDAR
VERSION:2.0
PRODID:-//Tukios.com/
BEGIN:VEVENT
UID:e7065095-484f-4ef3-a979-916e30ec6454@www.routsong.com
DTSTAMP:20260420T002834Z
DTSTART:20260422T160000Z
DTEND:20260422T170000Z
SUMMARY:Celebration of Life
DESCRIPTION:
URL:https://www.routsong.com/obituaries/mattie-fair
LOCATION:Centerville Community Church 10688 Dayton Lebanon Pike  Dayton 
	OH 45458
GEO:39.5880266;-84.1599171
END:VEVENT
END:VCALENDAR