BEGIN:VCALENDAR
VERSION:2.0
PRODID:-//Tukios.com/
BEGIN:VEVENT
UID:e33e8ee0-eb40-4757-96a3-14f63b39e619@www.routsong.com
DTSTAMP:20260425T211824Z
DTSTART:20260523T210000Z
DTEND:20260524T000000Z
SUMMARY:Celebration of Life
DESCRIPTION:
URL:https://www.routsong.com/obituaries/teri-hyland
LOCATION:Routsong Funeral Home 2100 E. Stroop Road  Kettering OH 45429
GEO:39.6882594;-84.1274769
END:VEVENT
END:VCALENDAR