BEGIN:VCALENDAR
VERSION:2.0
PRODID:-//Tukios.com/
BEGIN:VEVENT
UID:f41ac0c1-3461-4cfa-87cf-4bf29c349571@www.routsong.com
DTSTAMP:20260425T211456Z
DTSTART:20260523T220000Z
DTEND:20260523T230000Z
SUMMARY:Sharing of Memories
DESCRIPTION:
URL:https://www.routsong.com/obituaries/teri-hyland
LOCATION: 2100 E. Stroop Road  Kettering OH 45429
GEO:39.6882653;-84.1274021
END:VEVENT
END:VCALENDAR